BEGIN:VCALENDAR
VERSION:2.0
PRODID:http://pfarrei-rothenkirchen.de
BEGIN:VEVENT
UID:56ed1689-3329-11f1-a8bf-0242ac11002b-1778050800000-de
DTSTAMP:20260408T090007Z
DTSTART:20260506T070000Z
DTEND:20260506T080000Z
SUMMARY;LANGUAGE=de:Eucharistiefeier
END:VEVENT
END:VCALENDAR
