BEGIN:VCALENDAR
VERSION:2.0
PRODID:http://pfarrei-rothenkirchen.de
BEGIN:VEVENT
UID:59686d35-3c97-11f1-a8bf-0242ac11002b-1777377600000-de
DTSTAMP:20260420T090016Z
DTSTART:20260428T120000Z
DTEND:20260428T130000Z
SUMMARY;LANGUAGE=de:Trauerfeier mit Urnenbeisetzung
DESCRIPTION;LANGUAGE=de:+Willibald Dippold
END:VEVENT
END:VCALENDAR
