BEGIN:VCALENDAR
VERSION:2.0
PRODID:http://pfarrei-rothenkirchen.de
BEGIN:VEVENT
UID:5a32da75-37e0-11f1-a8bf-0242ac11002b-1778589000000-de
DTSTAMP:20260414T090015Z
DTSTART:20260512T123000Z
DTEND:20260512T133000Z
SUMMARY;LANGUAGE=de:Maiandacht d. Senioren
END:VEVENT
END:VCALENDAR
