BEGIN:VCALENDAR
VERSION:2.0
PRODID:http://pfarrei-rothenkirchen.de
BEGIN:VEVENT
UID:5c93de92-2e72-11f1-a8bf-0242ac11002b-1777525200000-de
DTSTAMP:20260402T090013Z
DTSTART:20260430T050000Z
DTEND:20260430T060000Z
SUMMARY;LANGUAGE=de:Eucharistiefeier
END:VEVENT
END:VCALENDAR
