BEGIN:VCALENDAR
VERSION:2.0
PRODID:http://pfarrei-rothenkirchen.de
BEGIN:VEVENT
UID:5d931cad-37e0-11f1-a8bf-0242ac11002b-1778605200000-de
DTSTAMP:20260414T090020Z
DTSTART:20260512T170000Z
DTEND:20260512T180000Z
SUMMARY;LANGUAGE=de:Hl. Messe mit Bittprozession
END:VEVENT
END:VCALENDAR
