BEGIN:VCALENDAR
VERSION:2.0
PRODID:http://pfarrei-rothenkirchen.de
BEGIN:VEVENT
UID:60b9e12b-2e72-11f1-a8bf-0242ac11002b-1777536000000-de
DTSTAMP:20260402T090020Z
DTSTART:20260430T080000Z
DTEND:20260430T090000Z
SUMMARY;LANGUAGE=de:Wortgottesfeier
END:VEVENT
END:VCALENDAR
