BEGIN:VCALENDAR
VERSION:2.0
PRODID:http://pfarrei-rothenkirchen.de
BEGIN:VEVENT
UID:61d75f23-2e72-11f1-a8bf-0242ac11002b-1777563000000-de
DTSTAMP:20260402T090022Z
DTSTART:20260430T153000Z
DTEND:20260430T163000Z
SUMMARY;LANGUAGE=de:Eucharistiefeier
END:VEVENT
END:VCALENDAR
