BEGIN:VCALENDAR
VERSION:2.0
PRODID:http://pfarrei-rothenkirchen.de
BEGIN:VEVENT
UID:622e31c5-2e72-11f1-a8bf-0242ac11002b-1777566600000-de
DTSTAMP:20260402T090023Z
DTSTART:20260430T163000Z
DTEND:20260430T173000Z
SUMMARY;LANGUAGE=de:Eucharistische Anbetung
END:VEVENT
END:VCALENDAR
