BEGIN:VCALENDAR
VERSION:2.0
PRODID:http://pfarrei-rothenkirchen.de
BEGIN:VEVENT
UID:62c43044-2e72-11f1-a8bf-0242ac11002b-1777529700000-de
DTSTAMP:20260402T090024Z
DTSTART:20260430T061500Z
DTEND:20260430T071500Z
SUMMARY;LANGUAGE=de:Eucharistiefeier
END:VEVENT
END:VCALENDAR
