BEGIN:VCALENDAR
VERSION:2.0
PRODID:http://pfarrei-rothenkirchen.de
BEGIN:VEVENT
UID:66ff5fad-37e0-11f1-a8bf-0242ac11002b-1777186800000-de
DTSTAMP:20260414T090036Z
DTSTART:20260426T070000Z
DTEND:20260426T080000Z
SUMMARY;LANGUAGE=de:Eucharistiefeier
DESCRIPTION;LANGUAGE=de:zum Gute-Hirte Sonntag (geistliche Berufe)
END:VEVENT
END:VCALENDAR
