BEGIN:VCALENDAR
VERSION:2.0
PRODID:http://pfarrei-rothenkirchen.de
BEGIN:VEVENT
UID:69388617-37e0-11f1-a8bf-0242ac11002b-1778056200000-de
DTSTAMP:20260414T090040Z
DTSTART:20260506T083000Z
DTEND:20260506T093000Z
SUMMARY;LANGUAGE=de:Maiandacht im Kindergarten
END:VEVENT
END:VCALENDAR
