BEGIN:VCALENDAR
VERSION:2.0
PRODID:http://pfarrei-rothenkirchen.de
BEGIN:VEVENT
UID:7245ec01-3983-11f1-a8bf-0242ac11002b-1778691600000-de
DTSTAMP:20260416T110014Z
DTSTART:20260513T170000Z
DTEND:20260513T180000Z
SUMMARY;LANGUAGE=de:ökum. Bibelkreis im Pfarrheim Rattelsdorf
END:VEVENT
END:VCALENDAR
