BEGIN:VCALENDAR
VERSION:2.0
PRODID:http://pfarrei-rothenkirchen.de
BEGIN:VEVENT
UID:727a1b68-3983-11f1-a8bf-0242ac11002b-1777035600000-de
DTSTAMP:20260416T110014Z
DTSTART:20260424T130000Z
DTEND:20260424T140000Z
SUMMARY;LANGUAGE=de:Eucharistiefeier
DESCRIPTION;LANGUAGE=de:im Seniorenheim St. Kilian Hallstadt
END:VEVENT
END:VCALENDAR
