BEGIN:VCALENDAR
VERSION:2.0
PRODID:http://pfarrei-rothenkirchen.de
BEGIN:VEVENT
UID:7dfa9b0f-38a9-11f1-a8bf-0242ac11002b-1778653800000-de
DTSTAMP:20260415T090003Z
DTSTART:20260513T063000Z
DTEND:20260513T071500Z
SUMMARY;LANGUAGE=de:Eucharistiefeier
END:VEVENT
END:VCALENDAR
