BEGIN:VCALENDAR
VERSION:2.0
PRODID:http://pfarrei-rothenkirchen.de
BEGIN:VEVENT
UID:7e322695-3f2d-11f1-a8bf-0242ac11002b-1778400000000-de
DTSTAMP:20260423T160004Z
DTSTART:20260510T080000Z
DTEND:20260510T090000Z
SUMMARY;LANGUAGE=de:Wort-Gottes-Feier
END:VEVENT
END:VCALENDAR
