BEGIN:VCALENDAR
VERSION:2.0
PRODID:http://pfarrei-rothenkirchen.de
BEGIN:VEVENT
UID:7e6132d9-3d60-11f1-a8bf-0242ac11002b-1779174000000-de
DTSTAMP:20260421T090007Z
DTSTART:20260519T070000Z
DTEND:20260519T080000Z
SUMMARY;LANGUAGE=de:Eucharistiefeier
DESCRIPTION;LANGUAGE=de:mit anschließendem Frühstück
END:VEVENT
END:VCALENDAR
