BEGIN:VCALENDAR
VERSION:2.0
PRODID:http://pfarrei-rothenkirchen.de
BEGIN:VEVENT
UID:7f1707aa-38a9-11f1-a8bf-0242ac11002b-1778691600000-de
DTSTAMP:20260415T090005Z
DTSTART:20260513T170000Z
DTEND:20260513T180000Z
SUMMARY;LANGUAGE=de:Vorabendmesse zu Christi Himmelfahrt
END:VEVENT
END:VCALENDAR
