BEGIN:VCALENDAR
VERSION:2.0
PRODID:http://pfarrei-rothenkirchen.de
BEGIN:VEVENT
UID:7ff478f4-2f3b-11f1-a8bf-0242ac11002b-1777622400000-de
DTSTAMP:20260403T090002Z
DTSTART:20260501T080000Z
DTEND:20260501T090000Z
SUMMARY;LANGUAGE=de:Kirchweihgottesdienst
END:VEVENT
END:VCALENDAR
