BEGIN:VCALENDAR
VERSION:2.0
PRODID:http://pfarrei-rothenkirchen.de
BEGIN:VEVENT
UID:80adec43-33f2-11f1-a8bf-0242ac11002b-1778158800000-de
DTSTAMP:20260409T090005Z
DTSTART:20260507T130000Z
DTEND:20260507T140000Z
SUMMARY;LANGUAGE=de:Eucharistiefeier
DESCRIPTION;LANGUAGE=de:im Roncallistift
END:VEVENT
END:VCALENDAR
