BEGIN:VCALENDAR
VERSION:2.0
PRODID:http://pfarrei-rothenkirchen.de
BEGIN:VEVENT
UID:80d1c7f9-33f2-11f1-a8bf-0242ac11002b-1778140800000-de
DTSTAMP:20260409T090006Z
DTSTART:20260507T080000Z
DTEND:20260507T090000Z
SUMMARY;LANGUAGE=de:Eucharistiefeier
END:VEVENT
END:VCALENDAR
