BEGIN:VCALENDAR
VERSION:2.0
PRODID:http://pfarrei-rothenkirchen.de
BEGIN:VEVENT
UID:80dc5d7c-38a9-11f1-a8bf-0242ac11002b-1778655600000-de
DTSTAMP:20260415T090008Z
DTSTART:20260513T070000Z
DTEND:20260513T080000Z
SUMMARY;LANGUAGE=de:Eucharistiefeier
END:VEVENT
END:VCALENDAR
