BEGIN:VCALENDAR
VERSION:2.0
PRODID:http://pfarrei-rothenkirchen.de
BEGIN:VEVENT
UID:8203f81d-2f3b-11f1-a8bf-0242ac11002b-1777617000000-de
DTSTAMP:20260403T090005Z
DTSTART:20260501T063000Z
DTEND:20260501T072500Z
SUMMARY;LANGUAGE=de:Beichtgelegenheit
END:VEVENT
END:VCALENDAR
