BEGIN:VCALENDAR
VERSION:2.0
PRODID:http://pfarrei-rothenkirchen.de
BEGIN:VEVENT
UID:83ead64a-38a9-11f1-a8bf-0242ac11002b-1778691600000-de
DTSTAMP:20260415T090013Z
DTSTART:20260513T170000Z
DTEND:20260513T190000Z
SUMMARY;LANGUAGE=de:Bittgang zur Waldkapelle mit Hl. Messe
END:VEVENT
END:VCALENDAR
