BEGIN:VCALENDAR
VERSION:2.0
PRODID:http://pfarrei-rothenkirchen.de
BEGIN:VEVENT
UID:8436ac6c-38a9-11f1-a8bf-0242ac11002b-1778689800000-de
DTSTAMP:20260415T090014Z
DTSTART:20260513T163000Z
DTEND:20260513T180000Z
SUMMARY;LANGUAGE=de:Hl. Messe mit Bittprozession
END:VEVENT
END:VCALENDAR
