BEGIN:VCALENDAR
VERSION:2.0
PRODID:http://pfarrei-rothenkirchen.de
BEGIN:VEVENT
UID:853429b1-2f3b-11f1-a8bf-0242ac11002b-1777622400000-de
DTSTAMP:20260403T090010Z
DTSTART:20260501T080000Z
DTEND:20260501T100000Z
SUMMARY;LANGUAGE=de:Eucharistiefeier,
DESCRIPTION;LANGUAGE=de:anschließend kurze Maiandacht
END:VEVENT
END:VCALENDAR
