BEGIN:VCALENDAR
VERSION:2.0
PRODID:http://pfarrei-rothenkirchen.de
BEGIN:VEVENT
UID:85b1672b-3f2d-11f1-a8bf-0242ac11002b-1779350400000-de
DTSTAMP:20260423T160017Z
DTSTART:20260521T080000Z
DTEND:20260521T090000Z
SUMMARY;LANGUAGE=de:Wortgottesfeier
DESCRIPTION;LANGUAGE=de:in Tagespflege Manus mit Kommunionausteilung
END:VEVENT
END:VCALENDAR
