BEGIN:VCALENDAR
VERSION:2.0
PRODID:http://pfarrei-rothenkirchen.de
BEGIN:VEVENT
UID:888d5ce8-38a9-11f1-a8bf-0242ac11002b-1778688000000-de
DTSTAMP:20260415T090021Z
DTSTART:20260513T160000Z
DTEND:20260513T170000Z
SUMMARY;LANGUAGE=de:Eucharistiefeier
DESCRIPTION;LANGUAGE=de:an der Wiese
END:VEVENT
END:VCALENDAR
