BEGIN:VCALENDAR
VERSION:2.0
PRODID:http://pfarrei-rothenkirchen.de
BEGIN:VEVENT
UID:89f00378-2f3b-11f1-a8bf-0242ac11002b-1777653000000-de
DTSTAMP:20260403T090018Z
DTSTART:20260501T163000Z
DTEND:20260501T170000Z
SUMMARY;LANGUAGE=de:Maiandacht mit Fahrzeugsegnung
END:VEVENT
END:VCALENDAR
