BEGIN:VCALENDAR
VERSION:2.0
PRODID:http://pfarrei-rothenkirchen.de
BEGIN:VEVENT
UID:89f6a1cb-33f2-11f1-a8bf-0242ac11002b-1778134500000-de
DTSTAMP:20260409T090021Z
DTSTART:20260507T061500Z
DTEND:20260507T071500Z
SUMMARY;LANGUAGE=de:Eucharistiefeier
END:VEVENT
END:VCALENDAR
