BEGIN:VCALENDAR
VERSION:2.0
PRODID:http://pfarrei-rothenkirchen.de
BEGIN:VEVENT
UID:8b787c96-3d60-11f1-a8bf-0242ac11002b-1779206400000-de
DTSTAMP:20260421T090029Z
DTSTART:20260519T160000Z
DTEND:20260519T170000Z
SUMMARY;LANGUAGE=de:Rosenkranz u. sakr. Segen
END:VEVENT
END:VCALENDAR
