BEGIN:VCALENDAR
VERSION:2.0
PRODID:http://pfarrei-rothenkirchen.de
BEGIN:VEVENT
UID:8bcba1b8-2f3b-11f1-a8bf-0242ac11002b-1777662000000-de
DTSTAMP:20260403T090022Z
DTSTART:20260501T190000Z
DTEND:20260501T200000Z
SUMMARY;LANGUAGE=de:Marienfestgottesdienst
DESCRIPTION;LANGUAGE=de:mit Fahrzeugweihe bei Kerzenschein (Kerzen bitte mitbringen)
END:VEVENT
END:VCALENDAR
