BEGIN:VCALENDAR
VERSION:2.0
PRODID:http://pfarrei-rothenkirchen.de
BEGIN:VEVENT
UID:8f2745e3-38a9-11f1-a8bf-0242ac11002b-1777914000000-de
DTSTAMP:20260415T090032Z
DTSTART:20260504T170000Z
DTEND:20260504T180000Z
SUMMARY;LANGUAGE=de:Hl. Messe zur Ewigen Anbetung
END:VEVENT
END:VCALENDAR
