BEGIN:VCALENDAR
VERSION:2.0
PRODID:http://pfarrei-rothenkirchen.de
BEGIN:VEVENT
UID:8fc6eabf-2f3b-11f1-a8bf-0242ac11002b-1777618800000-de
DTSTAMP:20260403T090028Z
DTSTART:20260501T070000Z
DTEND:20260501T080000Z
SUMMARY;LANGUAGE=de:Eucharistiefeier
DESCRIPTION;LANGUAGE=de:anschl. Maifest
END:VEVENT
END:VCALENDAR
