BEGIN:VCALENDAR
VERSION:2.0
PRODID:http://pfarrei-rothenkirchen.de
BEGIN:VEVENT
UID:8ff48a79-2f3b-11f1-a8bf-0242ac11002b-1777651200000-de
DTSTAMP:20260403T090028Z
DTSTART:20260501T160000Z
DTEND:20260501T173000Z
SUMMARY;LANGUAGE=de:1. Feierliche Maiandacht
DESCRIPTION;LANGUAGE=de:an der Dorfkapelle
END:VEVENT
END:VCALENDAR
