BEGIN:VCALENDAR
VERSION:2.0
PRODID:http://pfarrei-rothenkirchen.de
BEGIN:VEVENT
UID:a611c714-3e29-11f1-a8bf-0242ac11002b-1779260400000-de
DTSTAMP:20260422T090002Z
DTSTART:20260520T070000Z
DTEND:20260520T080000Z
SUMMARY;LANGUAGE=de:Eucharistiefeier
END:VEVENT
END:VCALENDAR
