BEGIN:VCALENDAR
VERSION:2.0
PRODID:http://pfarrei-rothenkirchen.de
BEGIN:VEVENT
UID:a62946b7-3e29-11f1-a8bf-0242ac11002b-1779256800000-de
DTSTAMP:20260422T090002Z
DTSTART:20260520T060000Z
DTEND:20260520T070000Z
SUMMARY;LANGUAGE=de:Eucharistiefeier (Domkapitel)
END:VEVENT
END:VCALENDAR
