BEGIN:VCALENDAR
VERSION:2.0
PRODID:http://pfarrei-rothenkirchen.de
BEGIN:VEVENT
UID:a962c656-3e29-11f1-a8bf-0242ac11002b-1779292800000-de
DTSTAMP:20260422T090008Z
DTSTART:20260520T160000Z
DTEND:20260520T170000Z
SUMMARY;LANGUAGE=de:Eucharistiefeier
END:VEVENT
END:VCALENDAR
