BEGIN:VCALENDAR
VERSION:2.0
PRODID:http://pfarrei-rothenkirchen.de
BEGIN:VEVENT
UID:aa55adb2-3004-11f1-a8bf-0242ac11002b-1777730400000-de
DTSTAMP:20260404T090002Z
DTSTART:20260502T140000Z
DTEND:20260502T150000Z
SUMMARY;LANGUAGE=de:Portug. Eucharistiefeier
END:VEVENT
END:VCALENDAR
