BEGIN:VCALENDAR
VERSION:2.0
PRODID:http://pfarrei-rothenkirchen.de
BEGIN:VEVENT
UID:aaf66fa3-36ba-11f1-a8bf-0242ac11002b-1777476600000-de
DTSTAMP:20260412T215758Z
DTSTART:20260429T153000Z
DTEND:20260429T163000Z
SUMMARY;LANGUAGE=de:Ewige Anbetung - Betstunde
END:VEVENT
END:VCALENDAR
