BEGIN:VCALENDAR
VERSION:2.0
PRODID:http://pfarrei-rothenkirchen.de
BEGIN:VEVENT
UID:abed16a1-3004-11f1-a8bf-0242ac11002b-1777701600000-de
DTSTAMP:20260404T090004Z
DTSTART:20260502T060000Z
DTEND:20260502T070000Z
SUMMARY;LANGUAGE=de:Eucharistiefeier (Domkapitel)
END:VEVENT
END:VCALENDAR
