BEGIN:VCALENDAR
VERSION:2.0
PRODID:http://pfarrei-rothenkirchen.de
BEGIN:VEVENT
UID:ac0196e4-34bb-11f1-a8bf-0242ac11002b-1778248800000-de
DTSTAMP:20260410T090007Z
DTSTART:20260508T140000Z
DTEND:20260508T150000Z
SUMMARY;LANGUAGE=de:ökum. Wortgottesdienst /Floriani-Feier
END:VEVENT
END:VCALENDAR
