BEGIN:VCALENDAR
VERSION:2.0
PRODID:http://pfarrei-rothenkirchen.de
BEGIN:VEVENT
UID:ac0bda3f-2b4d-11f1-a15b-0242ac11002b-1777195800000-de
DTSTAMP:20260329T090002Z
DTSTART:20260426T093000Z
DTEND:20260426T103000Z
SUMMARY;LANGUAGE=de:Eucharistiefeier
END:VEVENT
END:VCALENDAR
