BEGIN:VCALENDAR
VERSION:2.0
PRODID:http://pfarrei-rothenkirchen.de
BEGIN:VEVENT
UID:ac139847-34bb-11f1-a8bf-0242ac11002b-1778223600000-de
DTSTAMP:20260410T090007Z
DTSTART:20260508T070000Z
DTEND:20260508T080000Z
SUMMARY;LANGUAGE=de:Eucharistiefeier
END:VEVENT
END:VCALENDAR
