BEGIN:VCALENDAR
VERSION:2.0
PRODID:http://pfarrei-rothenkirchen.de
BEGIN:VEVENT
UID:ae1e26bb-3004-11f1-a8bf-0242ac11002b-1777735800000-de
DTSTAMP:20260404T090008Z
DTSTART:20260502T153000Z
DTEND:20260502T163000Z
SUMMARY;LANGUAGE=de:Wort-Gottes-Feier
END:VEVENT
END:VCALENDAR
