BEGIN:VCALENDAR
VERSION:2.0
PRODID:http://pfarrei-rothenkirchen.de
BEGIN:VEVENT
UID:ae978414-34bb-11f1-a8bf-0242ac11002b-1778216400000-de
DTSTAMP:20260410T090011Z
DTSTART:20260508T050000Z
DTEND:20260508T060000Z
SUMMARY;LANGUAGE=de:Eucharistiefeier
END:VEVENT
END:VCALENDAR
