BEGIN:VCALENDAR
VERSION:2.0
PRODID:http://pfarrei-rothenkirchen.de
BEGIN:VEVENT
UID:aeb59a03-36ba-11f1-a8bf-0242ac11002b-1777017600000-de
DTSTAMP:20260412T215804Z
DTSTART:20260424T080000Z
DTEND:20260424T090000Z
SUMMARY;LANGUAGE=de:Hl. Messe im ASB-Seniorenheim
END:VEVENT
END:VCALENDAR
