BEGIN:VCALENDAR
VERSION:2.0
PRODID:http://pfarrei-rothenkirchen.de
BEGIN:VEVENT
UID:af1fcd8f-36ba-11f1-a8bf-0242ac11002b-1777734000000-de
DTSTAMP:20260412T215805Z
DTSTART:20260502T150000Z
DTEND:20260502T160000Z
SUMMARY;LANGUAGE=de:Aufbruch zur Bittprozession nach Hasslach
END:VEVENT
END:VCALENDAR
