BEGIN:VCALENDAR
VERSION:2.0
PRODID:http://pfarrei-rothenkirchen.de
BEGIN:VEVENT
UID:b209ce67-36ba-11f1-a8bf-0242ac11002b-1778315400000-de
DTSTAMP:20260412T215810Z
DTSTART:20260509T083000Z
DTEND:20260509T093000Z
SUMMARY;LANGUAGE=de:Taufe des Kindes Ida Müller
END:VEVENT
END:VCALENDAR
