BEGIN:VCALENDAR
VERSION:2.0
PRODID:http://pfarrei-rothenkirchen.de
BEGIN:VEVENT
UID:b2c759b7-3972-11f1-a8bf-0242ac11002b-1778740200000-de
DTSTAMP:20260416T090021Z
DTSTART:20260514T063000Z
DTEND:20260514T073000Z
SUMMARY;LANGUAGE=de:Festgottesdienst
END:VEVENT
END:VCALENDAR
