BEGIN:VCALENDAR
VERSION:2.0
PRODID:http://pfarrei-rothenkirchen.de
BEGIN:VEVENT
UID:b3b7c630-34bb-11f1-a8bf-0242ac11002b-1778256000000-de
DTSTAMP:20260410T090020Z
DTSTART:20260508T160000Z
DTEND:20260508T170000Z
SUMMARY;LANGUAGE=de:Eucharistiefeier
DESCRIPTION;LANGUAGE=de:mit der FFW Medlitz zum Hl. Florian
END:VEVENT
END:VCALENDAR
